BEGIN:VCALENDAR
VERSION:2.0
PRODID:-//Foynes Yacht Club - ECPv5.9.0//NONSGML v1.0//EN
CALSCALE:GREGORIAN
METHOD:PUBLISH
X-WR-CALNAME:Foynes Yacht Club
X-ORIGINAL-URL:https://foynesyachtclub.com
X-WR-CALDESC:Events for Foynes Yacht Club
BEGIN:VTIMEZONE
TZID:UTC
BEGIN:STANDARD
TZOFFSETFROM:+0000
TZOFFSETTO:+0000
TZNAME:UTC
DTSTART:20220101T000000
END:STANDARD
END:VTIMEZONE
BEGIN:VEVENT
DTSTART;VALUE=DATE:20221106
DTEND;VALUE=DATE:20221107
DTSTAMP:20260421T052053
CREATED:20220210T142832Z
LAST-MODIFIED:20221007T112654Z
UID:3475-1667692800-1667779199@foynesyachtclub.com
SUMMARY:SRL Open Dinghy Frostbite Series
DESCRIPTION:NOTICE OF RACE \nSAILING INSTRUCTIONS
URL:https://foynesyachtclub.com/event/agm/
LOCATION:Foynes Yacht Club\, Foynes\, Limerick\, V94F2C5\, Ireland
END:VEVENT
END:VCALENDAR