BEGIN:VCALENDAR
VERSION:2.0
PRODID:-//Foynes Yacht Club - ECPv5.9.0//NONSGML v1.0//EN
CALSCALE:GREGORIAN
METHOD:PUBLISH
X-WR-CALNAME:Foynes Yacht Club
X-ORIGINAL-URL:https://foynesyachtclub.com
X-WR-CALDESC:Events for Foynes Yacht Club
BEGIN:VTIMEZONE
TZID:UTC
BEGIN:STANDARD
TZOFFSETFROM:+0000
TZOFFSETTO:+0000
TZNAME:UTC
DTSTART:20220101T000000
END:STANDARD
END:VTIMEZONE
BEGIN:VEVENT
DTSTART;VALUE=DATE:20220913
DTEND;VALUE=DATE:20220914
DTSTAMP:20260421T100505
CREATED:20220210T142621Z
LAST-MODIFIED:20220210T144648Z
UID:3469-1663027200-1663113599@foynesyachtclub.com
SUMMARY:Committee Meeting
DESCRIPTION:
URL:https://foynesyachtclub.com/event/committee-meeting-2/
LOCATION:Foynes Yacht Club\, Foynes\, Limerick\, V94F2C5\, Ireland
END:VEVENT
END:VCALENDAR