BEGIN:VCALENDAR
VERSION:2.0
PRODID:-//Foynes Yacht Club - ECPv5.9.0//NONSGML v1.0//EN
CALSCALE:GREGORIAN
METHOD:PUBLISH
X-WR-CALNAME:Foynes Yacht Club
X-ORIGINAL-URL:https://foynesyachtclub.com
X-WR-CALDESC:Events for Foynes Yacht Club
BEGIN:VTIMEZONE
TZID:UTC
BEGIN:STANDARD
TZOFFSETFROM:+0000
TZOFFSETTO:+0000
TZNAME:UTC
DTSTART:20220101T000000
END:STANDARD
END:VTIMEZONE
BEGIN:VEVENT
DTSTART;VALUE=DATE:20221011
DTEND;VALUE=DATE:20221012
DTSTAMP:20260420T212006
CREATED:20220210T142653Z
LAST-MODIFIED:20220210T144538Z
UID:3471-1665446400-1665532799@foynesyachtclub.com
SUMMARY:Committee Meeting
DESCRIPTION:
URL:https://foynesyachtclub.com/event/committee-meeting-3/
LOCATION:Foynes Yacht Club\, Foynes\, Limerick\, V94F2C5\, Ireland
END:VEVENT
END:VCALENDAR