BEGIN:VCALENDAR
VERSION:2.0
PRODID:-//Foynes Yacht Club - ECPv5.9.0//NONSGML v1.0//EN
CALSCALE:GREGORIAN
METHOD:PUBLISH
X-WR-CALNAME:Foynes Yacht Club
X-ORIGINAL-URL:https://foynesyachtclub.com
X-WR-CALDESC:Events for Foynes Yacht Club
BEGIN:VTIMEZONE
TZID:UTC
BEGIN:STANDARD
TZOFFSETFROM:+0000
TZOFFSETTO:+0000
TZNAME:UTC
DTSTART:20220101T000000
END:STANDARD
END:VTIMEZONE
BEGIN:VEVENT
DTSTART;VALUE=DATE:20220508
DTEND;VALUE=DATE:20220509
DTSTAMP:20260422T192130
CREATED:20220224T103436Z
LAST-MODIFIED:20220504T081133Z
UID:3528-1651968000-1652054399@foynesyachtclub.com
SUMMARY:Estuary Bell Regatta
DESCRIPTION:Sailing Instructions \nNotice of Race
URL:https://foynesyachtclub.com/event/estuary-bell-regatta/
LOCATION:FYC
END:VEVENT
END:VCALENDAR