BEGIN:VCALENDAR
VERSION:2.0
PRODID:-//Foynes Yacht Club - ECPv5.9.0//NONSGML v1.0//EN
CALSCALE:GREGORIAN
METHOD:PUBLISH
X-WR-CALNAME:Foynes Yacht Club
X-ORIGINAL-URL:https://foynesyachtclub.com
X-WR-CALDESC:Events for Foynes Yacht Club
BEGIN:VTIMEZONE
TZID:UTC
BEGIN:STANDARD
TZOFFSETFROM:+0000
TZOFFSETTO:+0000
TZNAME:UTC
DTSTART:20210101T000000
END:STANDARD
END:VTIMEZONE
BEGIN:VEVENT
DTSTART;TZID=UTC:20210511T203000
DTEND;TZID=UTC:20210511T223000
DTSTAMP:20260420T075709
CREATED:20210301T131145Z
LAST-MODIFIED:20210301T131145Z
UID:2743-1620765000-1620772200@foynesyachtclub.com
SUMMARY:FYC Committee Meeting
DESCRIPTION:
URL:https://foynesyachtclub.com/event/fyc-committee-meeting-3/
LOCATION:Foynes Yacht Club\, Foynes\, Limerick\, V94F2C5\, Ireland
END:VEVENT
END:VCALENDAR