BEGIN:VCALENDAR
VERSION:2.0
PRODID:-//Foynes Yacht Club - ECPv5.9.0//NONSGML v1.0//EN
CALSCALE:GREGORIAN
METHOD:PUBLISH
X-WR-CALNAME:Foynes Yacht Club
X-ORIGINAL-URL:https://foynesyachtclub.com
X-WR-CALDESC:Events for Foynes Yacht Club
BEGIN:VTIMEZONE
TZID:UTC
BEGIN:STANDARD
TZOFFSETFROM:+0000
TZOFFSETTO:+0000
TZNAME:UTC
DTSTART:20210101T000000
END:STANDARD
END:VTIMEZONE
BEGIN:VEVENT
DTSTART;TZID=UTC:20210309T203000
DTEND;TZID=UTC:20210309T223000
DTSTAMP:20260422T082759
CREATED:20210217T102147Z
LAST-MODIFIED:20210217T102147Z
UID:2616-1615321800-1615329000@foynesyachtclub.com
SUMMARY:FYC Committee Meeting
DESCRIPTION:
URL:https://foynesyachtclub.com/event/fyc-committee-meeting/
LOCATION:Foynes Yacht Club\, Foynes\, Limerick\, V94F2C5\, Ireland
END:VEVENT
END:VCALENDAR