BEGIN:VCALENDAR
VERSION:2.0
PRODID:-//Foynes Yacht Club - ECPv5.9.0//NONSGML v1.0//EN
CALSCALE:GREGORIAN
METHOD:PUBLISH
X-WR-CALNAME:Foynes Yacht Club
X-ORIGINAL-URL:https://foynesyachtclub.com
X-WR-CALDESC:Events for Foynes Yacht Club
BEGIN:VTIMEZONE
TZID:UTC
BEGIN:STANDARD
TZOFFSETFROM:+0000
TZOFFSETTO:+0000
TZNAME:UTC
DTSTART:20240101T000000
END:STANDARD
END:VTIMEZONE
BEGIN:VEVENT
DTSTART;VALUE=DATE:20240601
DTEND;VALUE=DATE:20240603
DTSTAMP:20260421T030608
CREATED:20240130T124159Z
LAST-MODIFIED:20240516T112505Z
UID:4561-1717200000-1717372799@foynesyachtclub.com
SUMMARY:Munster Mermaid Championships
DESCRIPTION:NOTICE OF RACE \nAccommodation around FYC and surrounding area \nhttps://foynesyachtclub.checklick.com \n 
URL:https://foynesyachtclub.com/event/munster-mermaid-championships/
LOCATION:Foynes Yacht Club\, Foynes\, Limerick\, V94F2C5\, Ireland
END:VEVENT
END:VCALENDAR