BEGIN:VCALENDAR
VERSION:2.0
PRODID:-//Foynes Yacht Club - ECPv5.9.0//NONSGML v1.0//EN
CALSCALE:GREGORIAN
METHOD:PUBLISH
X-WR-CALNAME:Foynes Yacht Club
X-ORIGINAL-URL:https://foynesyachtclub.com
X-WR-CALDESC:Events for Foynes Yacht Club
BEGIN:VTIMEZONE
TZID:UTC
BEGIN:STANDARD
TZOFFSETFROM:+0000
TZOFFSETTO:+0000
TZNAME:UTC
DTSTART:20210101T000000
END:STANDARD
END:VTIMEZONE
BEGIN:VEVENT
DTSTART;VALUE=DATE:20210904
DTEND;VALUE=DATE:20210906
DTSTAMP:20260422T114006
CREATED:20210301T133641Z
LAST-MODIFIED:20210901T144059Z
UID:2767-1630713600-1630886399@foynesyachtclub.com
SUMMARY:Union Chandlery Ltd - Mermaid Munster Championships
DESCRIPTION:Union Chandlery Munster Mermaid Championships 2021 Notice of Race \nUnion Chandlery Ltd Mermaid Munster Championships 2021 Sailing Instructions \n 
URL:https://foynesyachtclub.com/event/munster-mermaids/
LOCATION:Foynes Yacht Club\, Foynes\, Limerick\, V94F2C5\, Ireland
END:VEVENT
END:VCALENDAR