BEGIN:VCALENDAR
VERSION:2.0
PRODID:-//Foynes Yacht Club - ECPv5.9.0//NONSGML v1.0//EN
CALSCALE:GREGORIAN
METHOD:PUBLISH
X-WR-CALNAME:Foynes Yacht Club
X-ORIGINAL-URL:https://foynesyachtclub.com
X-WR-CALDESC:Events for Foynes Yacht Club
BEGIN:VTIMEZONE
TZID:UTC
BEGIN:STANDARD
TZOFFSETFROM:+0000
TZOFFSETTO:+0000
TZNAME:UTC
DTSTART:20220101T000000
END:STANDARD
END:VTIMEZONE
BEGIN:VEVENT
DTSTART;VALUE=DATE:20221023
DTEND;VALUE=DATE:20221024
DTSTAMP:20260421T002614
CREATED:20220224T120835Z
LAST-MODIFIED:20220321T163627Z
UID:3594-1666483200-1666569599@foynesyachtclub.com
SUMMARY:October Cruiser Series
DESCRIPTION:
URL:https://foynesyachtclub.com/event/october-cruiser-series-4/
LOCATION:FYC
END:VEVENT
END:VCALENDAR