BEGIN:VCALENDAR
VERSION:2.0
PRODID:-//Foynes Yacht Club - ECPv5.9.0//NONSGML v1.0//EN
CALSCALE:GREGORIAN
METHOD:PUBLISH
X-WR-CALNAME:Foynes Yacht Club
X-ORIGINAL-URL:https://foynesyachtclub.com
X-WR-CALDESC:Events for Foynes Yacht Club
BEGIN:VTIMEZONE
TZID:UTC
BEGIN:STANDARD
TZOFFSETFROM:+0000
TZOFFSETTO:+0000
TZNAME:UTC
DTSTART:20220101T000000
END:STANDARD
END:VTIMEZONE
BEGIN:VEVENT
DTSTART;VALUE=DATE:20220519
DTEND;VALUE=DATE:20220520
DTSTAMP:20260422T113955
CREATED:20220210T145811Z
LAST-MODIFIED:20220224T103920Z
UID:3504-1652918400-1653004799@foynesyachtclub.com
SUMMARY:Open Dinghy Series
DESCRIPTION:
URL:https://foynesyachtclub.com/event/open-dinghy-series-3/
LOCATION:FYC
END:VEVENT
END:VCALENDAR